BEGIN:VCALENDAR
VERSION:2.0
PRODID:-//eventon.com NONSGML v1.0//EN
CALSCALE:GREGORIAN
METHOD:PUBLISH
BEGIN:VEVENT
UID:69e9be4c93593
DTSTAMP:20260423T063804Z
DTSTART:20241116T170000Z
DTEND:20241116T225000Z
LOCATION:
SUMMARY:25. Martinovanje v Banja Luki
DESCRIPTION:V Banja Luki bo letos potekalo že 25. Martinovanje. Društvo S
 lovencev Triglav vabi\,  da se jim pridružite in skupaj proslavite ta pome
 mben praznik. Martinovanje bo 16. novembra 2024\,  s pričetkom ob 18. uri\
 ,  v restavraciji Aquana. V programu bodo nastopili otroška folklorna skup
 ina društva Triglav in MePZ 'Davorin Jenko. Nato[..]\nhttps://slovenci.si/
 dogodki/25-martinovanje-v-banja-luki/
URL:https://slovenci.si/dogodki/25-martinovanje-v-banja-luki/
END:VEVENT
END:VCALENDAR