BEGIN:VCALENDAR
VERSION:2.0
PRODID:-//eventon.com NONSGML v1.0//EN
CALSCALE:GREGORIAN
METHOD:PUBLISH
BEGIN:VEVENT
UID:69e74d0c49644
DTSTAMP:20260421T101020Z
DTSTART:20250613T160000Z
DTEND:20250613T215000Z
LOCATION:
SUMMARY:Dobrodošli doma: Otvoritev 47. srečanja slovenskih športnikov iz obmejnih dežel
DESCRIPTION:Dobrodošli doma: Otvoritev 47. srečanja slovenskih športniko
 v iz obmejnih dežel\nhttps://slovenci.si/dogodki/dobrodosli-doma-otvoritev
 -47-srecanja-slovenskih-sportnikov-iz-obmejnih-dezel/
URL:https://slovenci.si/dogodki/dobrodosli-doma-otvoritev-47-srecanja-slovenskih-sportnikov-iz-obmejnih-dezel/
END:VEVENT
END:VCALENDAR