BEGIN:VCALENDAR
VERSION:2.0
PRODID:-//eventon.com NONSGML v1.0//EN
CALSCALE:GREGORIAN
METHOD:PUBLISH
BEGIN:VEVENT
UID:69e4e51f764ea
DTSTAMP:20260419T142223Z
DTSTART:20250614T070000Z
DTEND:20250614T180000Z
LOCATION:
SUMMARY:Dobrodošli doma: 47. srečanje slovenskih športnikov iz obmejnih dežel
DESCRIPTION:Tradicionalno Slovenija gosti vsakoletna srečanja mladih špor
 tnikov iz obmejnih dežel. Ti imajo pomembno vlogo pri vzpostavljanju ter o
 hranjanju medsebojnih stikov in prijateljskih vezi med mladimi zamejskimi S
 lovenci štirih držav z mladimi športniki v domovini. Letos bo v petek\, 
  13. in soboto\,  14. junija v Novi Gorici potekalo že 47. srečanje[..]\n
 https://slovenci.si/dogodki/dobrodosli-doma-47-srecanje-slovenskih-sportnik
 ov-iz-obmejnih-dezel/
URL:https://slovenci.si/dogodki/dobrodosli-doma-47-srecanje-slovenskih-sportnikov-iz-obmejnih-dezel/
END:VEVENT
END:VCALENDAR