BEGIN:VCALENDAR
VERSION:2.0
PRODID:-//eventon.com NONSGML v1.0//EN
CALSCALE:GREGORIAN
METHOD:PUBLISH
BEGIN:VEVENT
UID:69e74eced81b9
DTSTAMP:20260421T101750Z
DTSTART:20250619T160000Z
DTEND:20250619T215000Z
LOCATION:
SUMMARY:Dobrodošli doma: Dom online - večer z mladimi slovenskimi izseljenci
DESCRIPTION:Od Mehike do ... Rudija Bučarja! Založba Beletrina v sodelova
 nju z Uradom za Slovence v zamejstvu in po svetu vabi na prav poseben dogod
 ek.  »Kako je živeti tam in kako tu?« bo samo eno od vprašanj\,  na ka
 tera bomo odgovorili. Prisluhnili bomo izkušenim: Barbara Vuga bo pripov
 edovala o večletnem življenju in delu[..]\nhttps://slovenci.si/dogodki/do
 brodosli-doma-dom-online-vecer-z-mladimi-slovenskimi-izseljenci/
URL:https://slovenci.si/dogodki/dobrodosli-doma-dom-online-vecer-z-mladimi-slovenskimi-izseljenci/
END:VEVENT
END:VCALENDAR