BEGIN:VCALENDAR
VERSION:2.0
PRODID:-//eventon.com NONSGML v1.0//EN
CALSCALE:GREGORIAN
METHOD:PUBLISH
BEGIN:VEVENT
UID:69e752e2644a2
DTSTAMP:20260421T103514Z
DTSTART:20250620T150000Z
DTEND:20250620T215000Z
LOCATION:
SUMMARY:Dobrodošli doma: Slovesna podelitev priznanj XXIII. nagradnega natečaja za dela na temo Slovencev v zamejstvu in po svetu
DESCRIPTION:Urad Vlade Republike Slovenije za Slovence v zamejstvu in po sv
 etu že vrsto let razpisuje nagradni natečaj za najboljša diplomska\,  ma
 gistrska in doktorska dela\,  ki se posvečajo življenju in delovanju Slov
 encev zunaj domovine. Z namenom spodbujanja raziskovanja na področju aktiv
 nosti in delovanja slovenskih skupnosti v zamejstvu in po svetu je[..]\nhtt
 ps://slovenci.si/dogodki/dobrodosli-doma-slovesna-podelitev-priznanj-xxiii-
 nagradnega-natecaja-za-dela-na-temo-slovencev-v-zamejstvu-in-po-svetu/
URL:https://slovenci.si/dogodki/dobrodosli-doma-slovesna-podelitev-priznanj-xxiii-nagradnega-natecaja-za-dela-na-temo-slovencev-v-zamejstvu-in-po-svetu/
END:VEVENT
END:VCALENDAR