BEGIN:VCALENDAR
VERSION:2.0
PRODID:-//eventon.com NONSGML v1.0//EN
CALSCALE:GREGORIAN
METHOD:PUBLISH
BEGIN:VEVENT
UID:69e74f53108ec
DTSTAMP:20260421T102003Z
DTSTART:20250621T130000Z
DTEND:20250621T215000Z
LOCATION:
SUMMARY:Dobrodošli doma: Pogovor in projekcija filmov Dorice Makuc
DESCRIPTION:Na ogled bosta dva filma v režiji Dorice Makuc in Mije Janžek
 ovič. Po sledovih Slovencev po svetu  - Dežela neskončnih možnosti 4 (
 1987\,  40 min): Dokumentarna oddaja nas popelje v drugo največje slovensk
 o mesto po število prebivalcev – Cleveland. Industrijsko središče na s
 everovzhodu ZDA je bilo tudi kulturno središče slovenskih[..]\nhttps://sl
 ovenci.si/dogodki/dobrodosli-doma-pogovor-in-projekcija-filmov-dorice-makuc
 /
URL:https://slovenci.si/dogodki/dobrodosli-doma-pogovor-in-projekcija-filmov-dorice-makuc/
END:VEVENT
END:VCALENDAR