BEGIN:VCALENDAR
VERSION:2.0
PRODID:-//eventon.com NONSGML v1.0//EN
CALSCALE:GREGORIAN
METHOD:PUBLISH
BEGIN:VEVENT
UID:69e74fbfa6244
DTSTAMP:20260421T102151Z
DTSTART:20250621T140000Z
DTEND:20250621T160000Z
LOCATION:
SUMMARY:Dobrodošli doma: Nastopi pevskih zborov in folklornih skupin
DESCRIPTION:Dobrodošli doma: Nastopi pevskih zborov in folklornih skupin\n
 https://slovenci.si/dogodki/dobrodosli-doma-nastopi-pevskih-zborov-in-folkl
 ornih-skupin/
URL:https://slovenci.si/dogodki/dobrodosli-doma-nastopi-pevskih-zborov-in-folklornih-skupin/
END:VEVENT
END:VCALENDAR