BEGIN:VCALENDAR
VERSION:2.0
PRODID:-//eventon.com NONSGML v1.0//EN
CALSCALE:GREGORIAN
METHOD:PUBLISH
BEGIN:VEVENT
UID:69e7525d134ff
DTSTAMP:20260421T103301Z
DTSTART:20250622T074500Z
DTEND:20250622T093000Z
LOCATION:
SUMMARY:Dobrodošli doma: Romanje na Sveto Goro\,  slovesna maša in družabno srečanje
DESCRIPTION:Slovesna maša na Sveti Gori bo potekala v nedeljo\,  22. junij
 a\,  ob 11.30. uri. Slovesno somaševanje bo vodil škof za Slovence v zame
 jstvu in po svetu ter ljubljanski pomožni škof dr. Anton Jamnik. Na Sveto
  Goro se bo možno podati tudi peš – zbrali se bomo ob 9.45 pri prvi[..]
 \nhttps://slovenci.si/dogodki/dobrodosli-doma-romanje-na-sveto-goro-slovesn
 a-masa-in-druzabno-srecanje/
URL:https://slovenci.si/dogodki/dobrodosli-doma-romanje-na-sveto-goro-slovesna-masa-in-druzabno-srecanje/
END:VEVENT
END:VCALENDAR