BEGIN:VCALENDAR
VERSION:2.0
PRODID:-//eventon.com NONSGML v1.0//EN
CALSCALE:GREGORIAN
METHOD:PUBLISH
BEGIN:VEVENT
UID:69e4e800ac9e1
DTSTAMP:20260419T143440Z
DTSTART:20260305T183000Z
DTEND:20260305T225000Z
LOCATION:
SUMMARY:Bilčovs: Literarno-glasbeni večer ob 100. obletnici smrti Srečka Kosovela
DESCRIPTION:Literarno-glasbeni večer ob 100. obletnici smrti Srečka Kosov
 ela Srečko in jaz Krstna uprizoritev: Četrtek\,  5. 3. 2026\,  19.30\,  F
 arni dom Bilčovs Prireditelji: Krščanska kulturna zveza\,  fara Bilčovs
 \,  SPD Bilka Bilčovs Janko Krištof –  recitacija Ana Tijssen – klav
 ir Aleksander Tolmaier – režija Hanzi Tomažič – scenska postavitev O
 b 100-letnici smrti[..]\nhttps://slovenci.si/dogodki/bilcovs-literarno-glas
 beni-vecer-ob-100-obletnici-smrti-srecka-kosovela/
URL:https://slovenci.si/dogodki/bilcovs-literarno-glasbeni-vecer-ob-100-obletnici-smrti-srecka-kosovela/
END:VEVENT
END:VCALENDAR